BEGIN:VCALENDAR
VERSION:2.0
PRODID:-//qajaq.ee - ECPv6.15.15//NONSGML v1.0//EN
CALSCALE:GREGORIAN
METHOD:PUBLISH
X-WR-CALNAME:qajaq.ee
X-ORIGINAL-URL:https://qajaq.ee
X-WR-CALDESC:Events for qajaq.ee
REFRESH-INTERVAL;VALUE=DURATION:PT1H
X-Robots-Tag:noindex
X-PUBLISHED-TTL:PT1H
BEGIN:VTIMEZONE
TZID:Europe/Tallinn
BEGIN:DAYLIGHT
TZOFFSETFROM:+0200
TZOFFSETTO:+0300
TZNAME:EEST
DTSTART:20200329T010000
END:DAYLIGHT
BEGIN:STANDARD
TZOFFSETFROM:+0300
TZOFFSETTO:+0200
TZNAME:EET
DTSTART:20201025T010000
END:STANDARD
BEGIN:DAYLIGHT
TZOFFSETFROM:+0200
TZOFFSETTO:+0300
TZNAME:EEST
DTSTART:20210328T010000
END:DAYLIGHT
BEGIN:STANDARD
TZOFFSETFROM:+0300
TZOFFSETTO:+0200
TZNAME:EET
DTSTART:20211031T010000
END:STANDARD
BEGIN:DAYLIGHT
TZOFFSETFROM:+0200
TZOFFSETTO:+0300
TZNAME:EEST
DTSTART:20220327T010000
END:DAYLIGHT
BEGIN:STANDARD
TZOFFSETFROM:+0300
TZOFFSETTO:+0200
TZNAME:EET
DTSTART:20221030T010000
END:STANDARD
END:VTIMEZONE
BEGIN:VEVENT
DTSTART;TZID=Europe/Tallinn:20211215T210000
DTEND;TZID=Europe/Tallinn:20211216T000000
DTSTAMP:20260420T151940
CREATED:20211206T122258Z
LAST-MODIFIED:20211206T122258Z
UID:244-1639602000-1639612800@qajaq.ee
SUMMARY:Gröönipöörete koolitus 2
DESCRIPTION:Gröönipöörete koolitus Paldiski ujulas. Kestvus 1 h. Meie poolt paat\, põll\, aer ja vajadusel ninaklamber ja ujumisprillid. Hea oleks kui ujumisprillid siiski isiklikud. Jalga kerge neopreensuss (kui on) ja selge võib ka panna õhukse neopreensägrgi ja püsksid\, kuid saab vabalt hakkama ka tavaliste ujumisriietega. \nRegistreerimiseks kirjuta sixten@qajaq.ee või helista 56806104
URL:https://qajaq.ee/event/groonipoorete-koolitus-2/
LOCATION:Paldiski ujula (Pakri 7\, Paldiski)\, Eesti
ATTACH;FMTTYPE=image/jpeg:https://qajaq.ee/wp-content/uploads/2020/12/397057_2715047435835_775240636_n.jpg
END:VEVENT
BEGIN:VEVENT
DTSTART;TZID=Europe/Tallinn:20211208T190000
DTEND;TZID=Europe/Tallinn:20211208T220000
DTSTAMP:20260420T151940
CREATED:20211206T121430Z
LAST-MODIFIED:20211206T122226Z
UID:236-1638990000-1639000800@qajaq.ee
SUMMARY:Gröönipöörete koolitus 1
DESCRIPTION:Gröönipöörete koolitus Paldiski ujulas. Kestvus 1 h. Meie poolt paat\, põll\, aer ja vajadusel ninaklamber ja ujumisprillid. Hea oleks kui ujumisprillid siiski isiklikud. Jalga kerge neopreensuss (kui on) ja selge võib ka panna õhukse neopreensägrgi ja püsksid\, kuid saab vabalt hakkama ka tavaliste ujumisriietega. \nRegistreerimiseks kirjuta sixten@qajaq.ee või helista 56806104
URL:https://qajaq.ee/event/groonipoorete-koolitus/
LOCATION:Paldiski ujula (Pakri 7\, Paldiski)\, Eesti
ATTACH;FMTTYPE=image/jpeg:https://qajaq.ee/wp-content/uploads/2021/12/Basseinis-scaled.jpg
END:VEVENT
BEGIN:VEVENT
DTSTART;TZID=Europe/Tallinn:20210731T150000
DTEND;TZID=Europe/Tallinn:20210801T200000
DTSTAMP:20260420T151940
CREATED:20210721T093337Z
LAST-MODIFIED:20210721T094240Z
UID:227-1627743600-1627848000@qajaq.ee
SUMMARY:Kesselaiu matk
DESCRIPTION:  \nKahepäevane Kesselaiu matk algusega Virtsu sadamast.  Ilmselt kõik kes Virtsu-Kuivastu praamiga on sõitnud on ka Kesselaidu vähemalt silmanurgast näinud\, kuid vähesed käinud. \nKesselaid on huvitav väikesaar\, mille peamised vaatamisväärsused on pankrannik ja abajas. Saarel käime läbi matkaraja. Ööbimine telkides. Kaasa oma söök\, jook\, vahetusriided\, ööbimisvarustus.  Aerutamiseks selga ja jalga riietus mis võib märjaks saada. \nMeie poolt süsta ja aerutamisvarustus ja matkajuht. \nVastavalt ilmale ja meeleolule võime käia  Muhus ära 🙂 Päevane kilomtraaz jääb 10 km ligi\, kui just ise pigemaks ei venita. \nInfo ja registreerimine sixten@qajaq.ee / 56806104
URL:https://qajaq.ee/event/kesselaiu-matk/
CATEGORIES:Matkad
ATTACH;FMTTYPE=image/jpeg:https://qajaq.ee/wp-content/uploads/2021/07/IMG_20200627_135135-scaled.jpg
END:VEVENT
BEGIN:VEVENT
DTSTART;TZID=Europe/Tallinn:20210707T220000
DTEND;TZID=Europe/Tallinn:20210708T000000
DTSTAMP:20260420T151940
CREATED:20210702T050818Z
LAST-MODIFIED:20210702T050818Z
UID:218-1625695200-1625702400@qajaq.ee
SUMMARY:Süstakoolitus vabatahtlikele päästajatele
DESCRIPTION:Süstasõidu ABC fookusega ohutusele vabatahtlikele merepäästajatele.
URL:https://qajaq.ee/event/sustakoolitus-vabatahtlikele-paastajatele/
END:VEVENT
BEGIN:VEVENT
DTSTART;TZID=Europe/Tallinn:20210702T220000
DTEND;TZID=Europe/Tallinn:20210704T220000
DTSTAMP:20260420T151940
CREATED:20210702T031040Z
LAST-MODIFIED:20210702T033621Z
UID:195-1625263200-1625436000@qajaq.ee
SUMMARY:SKEG 2021
DESCRIPTION:2-4. juuli on Sixten SKEGil koolitamas. 2021.a toimub üritus jälle Saarnaki laiul. Kaks ja pool päeva parimaid koolitusi\, seltskonda ja mõnusat olemist 🙂
URL:https://qajaq.ee/event/skeg-2021/
LOCATION:Saarnaki laid\, Eesti
ATTACH;FMTTYPE=image/jpeg:https://qajaq.ee/wp-content/uploads/2021/07/IMG_20200719_104730-scaled.jpg
END:VEVENT
END:VCALENDAR